BEGIN:VCALENDAR
VERSION:2.0
PRODID:-//Madrid Corresponsable - ECPv6.6.1//NONSGML v1.0//EN
CALSCALE:GREGORIAN
METHOD:PUBLISH
X-ORIGINAL-URL:https://dev.alkon.es
X-WR-CALDESC:Eventos para Madrid Corresponsable
REFRESH-INTERVAL;VALUE=DURATION:PT1H
X-Robots-Tag:noindex
X-PUBLISHED-TTL:PT1H
BEGIN:VTIMEZONE
TZID:Europe/Madrid
BEGIN:DAYLIGHT
TZOFFSETFROM:+0100
TZOFFSETTO:+0200
TZNAME:CEST
DTSTART:20220327T010000
END:DAYLIGHT
BEGIN:STANDARD
TZOFFSETFROM:+0200
TZOFFSETTO:+0100
TZNAME:CET
DTSTART:20221030T010000
END:STANDARD
BEGIN:DAYLIGHT
TZOFFSETFROM:+0100
TZOFFSETTO:+0200
TZNAME:CEST
DTSTART:20230326T010000
END:DAYLIGHT
BEGIN:STANDARD
TZOFFSETFROM:+0200
TZOFFSETTO:+0100
TZNAME:CET
DTSTART:20231029T010000
END:STANDARD
END:VTIMEZONE
BEGIN:VEVENT
DTSTART;TZID=Europe/Madrid:20230322T100000
DTEND;TZID=Europe/Madrid:20230322T120000
DTSTAMP:20260423T120651
CREATED:20230309T133252Z
LAST-MODIFIED:20231024T160419Z
UID:10000422-1679479200-1679486400@dev.alkon.es
SUMMARY:La Red de Empresas Corresponsables invita al tejido empresarial madrileño al webinar “Prácticas para una conciliación corresponsable en el ámbito laboral”
DESCRIPTION:El próximo 22 de marzo de 10:00 a 12:00 horas la Red de Empresas Corresponsables de la ciudad de Madrid invita al tejido empresarial madrileño a una sesión abierta donde\, además de dar a conocer su funcionamiento\, se impartirá el webinar “Prácticas para una conciliación corresponsable en el ámbito laboral” \nEn esta ocasión profundizaremos en la importancia de integrar medidas que faciliten la conciliación en el ámbito laboral como espacio clave para la corresponsabilidad. Para ello\, analizaremos información actualizada sobre la realidad de los cuidados y su impacto en el mundo laboral\,  y realizaremos un repaso de la normativa vigente de forma práctica. Se abordará el papel de los Planes de Igualdad para la reducción de brechas de género detectadas en nuestro centro de trabajo y compartiremos buenas prácticas empresariales en la materia. \nPuedes inscribirte al webinar pulsando aquí (hasta el 21 de marzo a las 10:00 horas). Cuando finalice el plazo de inscripción\, recibirás el enlace a la sala Zoom para participar en el webinar. Para más información\, puedes visitar nuestra web. \nEnlace de inscripción al webinar: aquí
URL:https://dev.alkon.es/evento/la-red-de-empresas-corresponsables-invita-al-tejido-empresarial-madrileno-al-webinar-practicas-para-una-conciliacion-corresponsable-en-el-ambito-laboral/
END:VEVENT
BEGIN:VEVENT
DTSTART;TZID=Europe/Madrid:20230222T100000
DTEND;TZID=Europe/Madrid:20230222T120000
DTSTAMP:20260423T120651
CREATED:20230201T132659Z
LAST-MODIFIED:20231024T160419Z
UID:10000421-1677060000-1677067200@dev.alkon.es
SUMMARY:Webinar Madrid Corresponsable: “Marco normativo en torno a la igualdad laboral”
DESCRIPTION:EL PROYECTO TRANSVERSAL MADRID CIUDAD CORRESPONSABLE ORGANIZA EL WEBINAR “MARCO NORMATIVO EN TORNO A LA IGUALDAD LABORAL”. \nSeguimos construyendo y aplicando las herramientas para hacer de nuestro entorno laboral un ambiente integrador e igualitario. Por ello\, resulta imprescindible incorporar el lenguaje inclusivo como una parte fundamental de la perspectiva de género. \nEl próximo 22 de enero de 10:00 a 12:00 horas la Dirección General de Políticas de Igualdad y Contra la Violencia de Género del Ayuntamiento de Madrid\, a través del Proyecto Transversal “Madrid Ciudad Corresponsable” invita al tejido empresarial madrileño al webinar “Seguimiento y evaluación del Plan de Igualdad”. \nInscripciones abiertas aquí
URL:https://dev.alkon.es/evento/webinar-madrid-corresponsable-marco-normativo-en-torno-a-la-igualdad-laboral/
END:VEVENT
BEGIN:VEVENT
DTSTART;TZID=Europe/Madrid:20230125T100000
DTEND;TZID=Europe/Madrid:20230125T113000
DTSTAMP:20260423T120651
CREATED:20230118T095302Z
LAST-MODIFIED:20231024T160419Z
UID:10000420-1674640800-1674646200@dev.alkon.es
SUMMARY:Webinar Madrid Corresponsable: “Seguimiento y evaluación del Plan de Igualdad”
DESCRIPTION:EL PROYECTO TRANSVERSAL MADRID CIUDAD CORRESPONSABLE ORGANIZA EL WEBINAR “SEGUIMIENTO Y EVALUACIÓN DEL PLAN DE IGUALDAD”. \nSeguimos construyendo y aplicando las herramientas para hacer de nuestro entorno laboral un ambiente integrador e igualitario. Por ello\, resulta imprescindible incorporar el lenguaje inclusivo como una parte fundamental de la perspectiva de género. \nEl próximo 25 de enero de 10:00 a 11:30 horas la Dirección General de Políticas de Igualdad y Contra la Violencia de Género del Ayuntamiento de Madrid\, a través del Proyecto Transversal “Madrid Ciudad Corresponsable” invita al tejido empresarial madrileño al webinar “Seguimiento y evaluación del Plan de Igualdad”. \nInscripciones abiertas aquí
URL:https://dev.alkon.es/evento/webinar-madrid-corresponsable-seguimiento-y-evaluacion-del-plan-de-igualdad/
END:VEVENT
BEGIN:VEVENT
DTSTART;TZID=Europe/Madrid:20221220T100000
DTEND;TZID=Europe/Madrid:20221220T130000
DTSTAMP:20260423T120651
CREATED:20221212T131348Z
LAST-MODIFIED:20231024T160419Z
UID:10000419-1671530400-1671541200@dev.alkon.es
SUMMARY:Jornada presencial “Prevención y actuación ante el acoso sexual y por razón de sexo”
DESCRIPTION:Lugar: Salón de actos del Edificio Abogados de Atocha (c/Sebastián Herrera 12\, 2ª planta Madrid)\nOrganiza: Secretaría Mujeres CCOO de Madrid. \nInscripciones en: https://forms.gle/tw7iSANfnQtkW5fg9
URL:https://dev.alkon.es/evento/jornada-presencial-prevencion-y-actuacion-ante-el-acoso-sexual-y-por-razon-de-sexo/
END:VEVENT
BEGIN:VEVENT
DTSTART;TZID=Europe/Madrid:20221216T100000
DTEND;TZID=Europe/Madrid:20221216T113000
DTSTAMP:20260423T120651
CREATED:20221124T132345Z
LAST-MODIFIED:20231024T160419Z
UID:10000417-1671184800-1671190200@dev.alkon.es
SUMMARY:Taller online: “Prevenir y combatir la violencia de género desde el ámbito empresarial”
DESCRIPTION:Organiza: Cámara de Comercio Madrid \nNecesaria inscripción en el siguiente enlace: https://www.camaramadrid.es/evento
URL:https://dev.alkon.es/evento/taller-online-prevenir-y-combatir-la-violencia-de-genero-desde-el-ambito-empresarial/
END:VEVENT
BEGIN:VEVENT
DTSTART;TZID=Europe/Madrid:20221213T100000
DTEND;TZID=Europe/Madrid:20221213T120000
DTSTAMP:20260423T120651
CREATED:20221202T112228Z
LAST-MODIFIED:20231024T160419Z
UID:10000418-1670925600-1670932800@dev.alkon.es
SUMMARY:Jornada Técnica: “Empresas corresponsables\, empresas que cuidan”
DESCRIPTION:Avanzando en la corresponsabilidad e igualdad laboral en la ciudad de  Madrid. \nMartes 13 de diciembre\, 10:00-12:00 horas.\nBiblioteca Eugenio Trías (Pº de Fernán Núñez\, Parque de El Retiro) \nInscripciones abiertas aquí
URL:https://dev.alkon.es/evento/jornada-tecnica-empresas-corresponsables-empresas-que-cuidan/
END:VEVENT
BEGIN:VEVENT
DTSTART;TZID=Europe/Madrid:20221202T100000
DTEND;TZID=Europe/Madrid:20221202T113000
DTSTAMP:20260423T120651
CREATED:20221102T151257Z
LAST-MODIFIED:20231024T160419Z
UID:10000416-1669975200-1669980600@dev.alkon.es
SUMMARY:Taller online: “Liderazgo con perspectiva de género”
DESCRIPTION:Organiza: Cámara de Comercio Madrid \nNecesaria inscripción en el siguiente enlace: https://forms.gle/Fo1ySYyTDcdwqbDi8
URL:https://dev.alkon.es/evento/taller-online-liderazgo-con-perspectiva-de-genero/
END:VEVENT
BEGIN:VEVENT
DTSTART;TZID=Europe/Madrid:20221123T100000
DTEND;TZID=Europe/Madrid:20221123T113000
DTSTAMP:20260423T120651
CREATED:20221102T125159Z
LAST-MODIFIED:20231024T160419Z
UID:10000415-1669197600-1669203000@dev.alkon.es
SUMMARY:Webinar Madrid Corresponsable: “El protocolo para la prevención y actuación frente al acoso sexual y por razón de sexo”
DESCRIPTION:EL PROYECTO TRANSVERSAL MADRID CIUDAD CORRESPONSABLE ORGANIZA EL WEBINAR “EL PROTOCOLO PARA LA PREVENCIÓN Y ACTUACIÓN FRENTE AL ACOSO SEXUAL Y POR RAZÓN DE SEXO”. \nSeguimos construyendo y aplicando las herramientas para hacer de nuestro entorno laboral un ambiente integrador e igualitario. Por ello\, resulta imprescindible incorporar el lenguaje inclusivo como una parte fundamental de la perspectiva de género. \nEl próximo 26 de octubre de 10:00 a 11:30 horas la Dirección General de Políticas de Igualdad y Contra la Violencia de Género del Ayuntamiento de Madrid\, a través del Proyecto Transversal “Madrid Ciudad Corresponsable” invita al tejido empresarial madrileño al webinar “Elaboración del plan de Comunicación en la gestión del Plan de igualdad”. \nInscripciones abiertas aquí
URL:https://dev.alkon.es/evento/webinar-madrid-corresponsable-el-protocolo-para-la-prevencion-y-actuacion-frente-al-acoso-sexual-y-por-razon-de-sexo/
END:VEVENT
BEGIN:VEVENT
DTSTART;TZID=Europe/Madrid:20221118T100000
DTEND;TZID=Europe/Madrid:20221118T113000
DTSTAMP:20260423T120651
CREATED:20221028T110357Z
LAST-MODIFIED:20231024T160419Z
UID:10000414-1668765600-1668771000@dev.alkon.es
SUMMARY:Jornada online “Organizaciones por una conciliación corresponsable”.
DESCRIPTION:Viernes 18 de noviembre\, 10:00-11:30 horas. \nOrganiza: Cámara de Comercio de Madrid. \nhttps://www.camaramadrid.es/evento \n 
URL:https://dev.alkon.es/evento/taller-online-lenguaje-no-sexista-y-comunicacion-inclusiva-2/
END:VEVENT
BEGIN:VEVENT
DTSTART;TZID=Europe/Madrid:20221026T100000
DTEND;TZID=Europe/Madrid:20221026T113000
DTSTAMP:20260423T120651
CREATED:20221018T073657Z
LAST-MODIFIED:20231024T160419Z
UID:10000412-1666778400-1666783800@dev.alkon.es
SUMMARY:Webinar Madrid Corresponsable: “Elaboración del plan de Comunicación en la gestión del Plan de igualdad”
DESCRIPTION:EL PROYECTO TRANSVERSAL MADRID CIUDAD CORRESPONSABLE ORGANIZA EL WEBINAR “ELABORACIÓN DEL PLAN DE COMUNICACIÓN EN LA GESTIÓN DEL PLAN DE IGUALDAD”. \nSeguimos construyendo y aplicando las herramientas para hacer de nuestro entorno laboral un ambiente integrador e igualitario. Por ello\, resulta imprescindible incorporar el lenguaje inclusivo como una parte fundamental de la perspectiva de género. \nEl próximo 26 de octubre de 10:00 a 11:30 horas la Dirección General de Políticas de Igualdad y Contra la Violencia de Género del Ayuntamiento de Madrid\, a través del Proyecto Transversal “Madrid Ciudad Corresponsable” invita al tejido empresarial madrileño al webinar “Elaboración del plan de Comunicación en la gestión del Plan de igualdad”. \nInscripciones abiertas aquí
URL:https://dev.alkon.es/evento/webinar-madrid-corresponsable-elaboracion-del-plan-de-comunicacion-en-la-gestion-del-plan-de-igualdad/
END:VEVENT
BEGIN:VEVENT
DTSTART;TZID=Europe/Madrid:20221024T103000
DTEND;TZID=Europe/Madrid:20221024T131500
DTSTAMP:20260423T120651
CREATED:20221020T075410Z
LAST-MODIFIED:20231024T160419Z
UID:10000413-1666607400-1666617300@dev.alkon.es
SUMMARY:Jornada presencial “UGT un sindicato en defensa de la igualdad”
DESCRIPTION:Lunes 24 de octubre\, 10:30-13:15 horas. \nInscripciones en: https://forms.gle/tw7iSANfnQtkW5fg9
URL:https://dev.alkon.es/evento/jornada-presencial-ugt-un-sindicato-en-defensa-de-la-igualdad/
END:VEVENT
BEGIN:VEVENT
DTSTART;TZID=Europe/Madrid:20221020T100000
DTEND;TZID=Europe/Madrid:20221020T130000
DTSTAMP:20260423T120651
CREATED:20221003T111340Z
LAST-MODIFIED:20231024T160419Z
UID:10000410-1666260000-1666270800@dev.alkon.es
SUMMARY:Taller presencial gratuito “Prevención y gestión del acoso sexual/por razón de sexo en el ámbito laboral”
DESCRIPTION:Jueves 20 de octubre\, 10:00-13:00 horas. \nPlaza Independencia nº1. \nOrganiza: Cámara de Comercio de Madrid. \nhttps://www.camaramadrid.es/evento/-/item/evento/8354/taller-gratuito-servicio-madrid-corresponsable-prevencion-y-gestion-del-acoso-sexualpor-razon-de-sexo-en-el-ambito-laboral?utm_source=emailing&utm_medium=email&utm_campaign=Taller_gratuito_Servicio_Madrid_Corresponsable_ \n 
URL:https://dev.alkon.es/evento/taller-presencial-gratuito-prevencion-y-gestion-del-acoso-sexual-por-razon-de-sexo-en-el-ambito-laboral/
END:VEVENT
BEGIN:VEVENT
DTSTART;TZID=Europe/Madrid:20221006T100000
DTEND;TZID=Europe/Madrid:20221006T130000
DTSTAMP:20260423T120651
CREATED:20220915T082934Z
LAST-MODIFIED:20231024T160419Z
UID:10000408-1665050400-1665061200@dev.alkon.es
SUMMARY:Taller presencial “Integración organizacional de la conciliación y la corresponsabilidad como elementos estratégicos”
DESCRIPTION:Jueves 6 de octubre\, 10:00-13:00 horas. \nOrganiza: Cámara de Comercio de Madrid. \nhttps://www.camaramadrid.es/evento/-/item/evento/8353/taller-gratuito-on-line-servicio-madrid-corresponsable-integracion-organizacional-de-la-conciliacion-y-la-corresponsabilidad-como-elementos-estrategicos?utm_source=emailing&utm_medium=email&utm_campaign=Taller_gratuito_Madrid_Corresponsable
URL:https://dev.alkon.es/evento/taller-presencial-integracion-organizacional-de-la-conciliacion-y-la-corresponsabilidad-como-elementos-estrategicos/
END:VEVENT
BEGIN:VEVENT
DTSTART;TZID=Europe/Madrid:20221005T100000
DTEND;TZID=Europe/Madrid:20221005T113000
DTSTAMP:20260423T120651
CREATED:20221003T121021Z
LAST-MODIFIED:20231024T160419Z
UID:10000411-1664964000-1664969400@dev.alkon.es
SUMMARY:Taller online: “El acoso sexual y por razón de sexo”
DESCRIPTION:Organiza: CCOO Madrid \nNecesaria inscripción en el siguiente enlace: https://forms.gle/Fo1ySYyTDcdwqbDi8
URL:https://dev.alkon.es/evento/taller-online-el-acoso-sexual-y-por-razon-de-sexo/
END:VEVENT
BEGIN:VEVENT
DTSTART;TZID=Europe/Madrid:20220928T100000
DTEND;TZID=Europe/Madrid:20220928T113000
DTSTAMP:20260423T120651
CREATED:20220915T182346Z
LAST-MODIFIED:20231024T160419Z
UID:10000409-1664359200-1664364600@dev.alkon.es
SUMMARY:Webinar Madrid Corresponsable: “El registro del Plan de Igualdad: proceso y elementos a tener en cuenta”
DESCRIPTION:EL PROYECTO TRANSVERSAL MADRID CIUDAD CORRESPONSABLE ORGANIZA EL WEBINAR “EL REGISTRO DEL PLAN DE IGUALDAD: PROCESO Y ELEMENTOS A TENER EN CUENTA”. \nSeguimos construyendo y aplicando las herramientas para hacer de nuestro entorno laboral un ambiente integrador e igualitario. Por ello\, resulta imprescindible incorporar el lenguaje inclusivo como una parte fundamental de la perspectiva de género. \nEl próximo 25 de mayo de 10:00 a 11:30 horas la Dirección General de Políticas de Igualdad y Contra la Violencia de Género del Ayuntamiento de Madrid\, a través del Proyecto Transversal “Madrid Ciudad Corresponsable” invita al tejido empresarial madrileño al webinar “El registro del Plan de Igualdad: proceso y elementos a tener en cuenta”. \nInscripciones abiertas aquí
URL:https://dev.alkon.es/evento/webinar-madrid-corresponsable-el-registro-del-plan-de-igualdad-proceso-y-elementos-a-tener-en-cuenta/
END:VEVENT
BEGIN:VEVENT
DTSTART;TZID=Europe/Madrid:20220926T100000
DTEND;TZID=Europe/Madrid:20220926T113000
DTSTAMP:20260423T120651
CREATED:20220630T102321Z
LAST-MODIFIED:20231024T160419Z
UID:10000405-1664186400-1664191800@dev.alkon.es
SUMMARY:Taller online “Lenguaje no sexista y comunicación inclusiva”
DESCRIPTION:Lunes 26 de septiembre\, 10:00-11:30 horas. \nOrganiza: Cámara de Comercio de Madrid. \nhttps://www.camaramadrid.es/evento/-/item/evento/8293/taller-gratuito-servicio-madrid-corresponsable-implicaciones-de-la-legislacion-referente-a-trabajo-a-distancia-teletrabajo
URL:https://dev.alkon.es/evento/taller-online-lenguaje-no-sexista-y-comunicacion-inclusiva/
END:VEVENT
BEGIN:VEVENT
DTSTART;TZID=Europe/Madrid:20220921T100000
DTEND;TZID=Europe/Madrid:20220921T130000
DTSTAMP:20260423T120651
CREATED:20220912T180922Z
LAST-MODIFIED:20231024T160419Z
UID:10000407-1663754400-1663765200@dev.alkon.es
SUMMARY:Jornada “La igualdad retributiva con enfoque feminista”
DESCRIPTION:Miércoles 21 de septiembre\, 10:00-13:00 horas. \nOrganiza: Secretaría de las Mujeres de CCOO de Madrid. \nhttps://forms.gle/syikqiHP7NHhLUCo9
URL:https://dev.alkon.es/evento/jornada-la-igualdad-retributiva-con-enfoque-feminista/
END:VEVENT
BEGIN:VEVENT
DTSTART;TZID=Europe/Madrid:20220711T100000
DTEND;TZID=Europe/Madrid:20220711T141500
DTSTAMP:20260423T120651
CREATED:20220629T104659Z
LAST-MODIFIED:20231024T160419Z
UID:10000404-1657533600-1657548900@dev.alkon.es
SUMMARY:Jornada "Una acción común europea sobre cuidados. Una estrategia de cuidados con perspectiva feminista y sindical"
DESCRIPTION:Lugar: Consejo Económico y Social de España (C/ Huertas\, nº 73. Madrid) \nDirigida a Profesionales\, representantes sindicales y de organizaciones empresariales de los sectores de cuidados y equipos; personal de organismos públicos de los sectores implicados; analistas y especialistas en los sectores de cuidado; agentes de igualdad; medios de comunicación; personas interesadas. \nEnlace de inscripción: https://docs.google.com/forms/d/e/1FAIpQLSepFLc11js8OCu5PnKASQiA2lBhEBYBmK-rO7jKuLrf3WYCMA/viewform
URL:https://dev.alkon.es/evento/jornada-una-accion-comun-europea-sobre-cuidados-una-estrategia-de-cuidados-con-perspectiva-feminista-y-sindical/
END:VEVENT
BEGIN:VEVENT
DTSTART;TZID=Europe/Madrid:20220707T100000
DTEND;TZID=Europe/Madrid:20220707T113000
DTSTAMP:20260423T120651
CREATED:20220704T084936Z
LAST-MODIFIED:20231024T160419Z
UID:10000406-1657188000-1657193400@dev.alkon.es
SUMMARY:Taller online “Conciliación y Corresponsabilidad en el ámbito laboral”
DESCRIPTION:Jueves 7 de julio\, 10:00-11:30 horas. \nImparte: Lidia Fernández Montes\, Secretaria de las Mujeres de CCOO de Madrid. \nVideoconferencia a través de Zoom (es necesario inscribirse):  https://forms.gle/wUjWKRDhdRs6XNL29
URL:https://dev.alkon.es/evento/taller-online-conciliacion-y-corresponsabilidad-en-el-ambito-laboral/
END:VEVENT
BEGIN:VEVENT
DTSTART;TZID=Europe/Madrid:20220701T100000
DTEND;TZID=Europe/Madrid:20220701T130000
DTSTAMP:20260423T120651
CREATED:20220531T150626Z
LAST-MODIFIED:20231024T160419Z
UID:10000402-1656669600-1656680400@dev.alkon.es
SUMMARY:Taller online “Implicaciones de la legislación referente a trabajo a distancia/teletrabajo”
DESCRIPTION:Viernes 1 de julio\, 10:00-13:00 horas. \nOrganiza: Cámara de Comercio de Madrid. \nhttps://www.camaramadrid.es/evento/-/item/evento/8293/taller-gratuito-servicio-madrid-corresponsable-implicaciones-de-la-legislacion-referente-a-trabajo-a-distancia-teletrabajo
URL:https://dev.alkon.es/evento/taller-online-implicaciones-de-la-legislacion-referente-a-trabajo-a-distancia-teletrabajo/
END:VEVENT
BEGIN:VEVENT
DTSTART;TZID=Europe/Madrid:20220616T100000
DTEND;TZID=Europe/Madrid:20220616T113000
DTSTAMP:20260423T120651
CREATED:20220531T144309Z
LAST-MODIFIED:20231024T160419Z
UID:10000401-1655373600-1655379000@dev.alkon.es
SUMMARY:Taller presencial "Visibilizar el talento femenino en las organizaciones"
DESCRIPTION:Jueves 16 de junio\, 10:00-11:30 horas. \nOrganiza: Cámara de Comercio de Madrid. \nhttps://www.camaramadrid.es/evento/-/item/evento/8404/jornada-gratuita-servicio-madrid-corresponsable-visibilizar-el-talento-femenino-en-las-organizaciones
URL:https://dev.alkon.es/evento/taller-presencial-visibilizar-el-talento-femenino-en-las-organizaciones/
END:VEVENT
BEGIN:VEVENT
DTSTART;TZID=Europe/Madrid:20220615T100000
DTEND;TZID=Europe/Madrid:20220615T113000
DTSTAMP:20260423T120651
CREATED:20220608T114406Z
LAST-MODIFIED:20231024T160419Z
UID:10000403-1655287200-1655292600@dev.alkon.es
SUMMARY:Taller online “Empoderamiento y liderazgo femenino”
DESCRIPTION:Miércoles 15 de junio\, 10:00-11:30 horas. \nPonente: Alba Pérez Ciudad\, Adjunta a la Secretaría de las Mujeres de CCOO de Madrid. \nFormulario de inscripción: https://forms.gle/RKRv9BR9C2A9uzvq7
URL:https://dev.alkon.es/evento/taller-online-empoderamiento-y-liderazgo-femenino/
END:VEVENT
BEGIN:VEVENT
DTSTART;TZID=Europe/Madrid:20220608T100000
DTEND;TZID=Europe/Madrid:20220608T113000
DTSTAMP:20260423T120651
CREATED:20220530T085920Z
LAST-MODIFIED:20231024T160419Z
UID:10000399-1654682400-1654687800@dev.alkon.es
SUMMARY:Taller online: “Conceptos básicos de diversidad afectivo sexual y LGTBIFOBIA”
DESCRIPTION:Organiza: CCOO Madrid \nNecesaria inscripción en el siguiente enlace: https://forms.gle/Fo1ySYyTDcdwqbDi8
URL:https://dev.alkon.es/evento/taller-online-conceptos-basicos-de-diversidad-afectivo-sexual-y-lgtbifobia/
END:VEVENT
BEGIN:VEVENT
DTSTART;TZID=Europe/Madrid:20220603T100000
DTEND;TZID=Europe/Madrid:20220603T113000
DTSTAMP:20260423T120651
CREATED:20220530T090119Z
LAST-MODIFIED:20231024T160419Z
UID:10000400-1654250400-1654255800@dev.alkon.es
SUMMARY:Taller online: “Micromachismos y sesgos de género en el ámbito laboral”
DESCRIPTION:Organiza: Cámara de Comercio de Madrid. \nNecesaria inscripción en el siguiente enlace: https://forms.gle/Fo1ySYyTDcdwqbDi8
URL:https://dev.alkon.es/evento/taller-online-micromachismos-y-sesgos-de-genero-en-el-ambito-laboral/
END:VEVENT
BEGIN:VEVENT
DTSTART;TZID=Europe/Madrid:20220526T100000
DTEND;TZID=Europe/Madrid:20220526T113000
DTSTAMP:20260423T120651
CREATED:20220523T074858Z
LAST-MODIFIED:20231024T160419Z
UID:10000293-1653559200-1653564600@dev.alkon.es
SUMMARY:Taller online: “Conceptos básicos en Igualdad de Oportunidades”
DESCRIPTION:Organiza: CCOO Madrid \nPonente: Alba Pérez Ciudad\, Adjunta a la Secretaría de las Mujeres de CCOO de Madrid. \nNecesaria inscripción en el siguiente enlace: https://forms.gle/Fo1ySYyTDcdwqbDi8
URL:https://dev.alkon.es/evento/taller-online-conceptos-basicos-en-igualdad-de-oportunidades/
END:VEVENT
BEGIN:VEVENT
DTSTART;TZID=Europe/Madrid:20220525T100000
DTEND;TZID=Europe/Madrid:20220525T113000
DTSTAMP:20260423T120651
CREATED:20220523T095004Z
LAST-MODIFIED:20231024T160419Z
UID:10000294-1653472800-1653478200@dev.alkon.es
SUMMARY:Taller online: “Realización del Diagnóstico para la elaboración de los Planes de Igualdad”
DESCRIPTION:Para inscripción pincha aquí: (inscripciones hasta martes 14:00 horas) \nhttps://forms.gle/xuQrFpEzX7f2M3kz7
URL:https://dev.alkon.es/evento/taller-online-realizacion-del-diagnostico-para-la-elaboracion-de-los-planes-de-igualdad/
END:VEVENT
BEGIN:VEVENT
DTSTART;TZID=Europe/Madrid:20220525T100000
DTEND;TZID=Europe/Madrid:20220525T113000
DTSTAMP:20260423T120651
CREATED:20220511T115928Z
LAST-MODIFIED:20231024T160419Z
UID:10000286-1653472800-1653478200@dev.alkon.es
SUMMARY:Webinar Madrid Corresponsable: “Transparencia salarial: herramientas para el Diagnóstico y diseño del Plan de Igualdad”
DESCRIPTION:EL PROYECTO TRANSVERSAL MADRID CIUDAD CORRESPONSABLE ORGANIZA EL WEBINAR “TRANSPARENCIA SALARIAL: HERRAMIENTAS PARA EL DIAGNÓSTICO Y DISEÑO DEL PLAN DE IGUALDAD”. \nSeguimos construyendo y aplicando las herramientas para hacer de nuestro entorno laboral un ambiente integrador e igualitario. Por ello\, resulta imprescindible incorporar el lenguaje inclusivo como una parte fundamental de la perspectiva de género. \nEl próximo 25 de mayo de 10:00 a 11:30 horas la Dirección General de Políticas de Igualdad y Contra la Violencia de Género del Ayuntamiento de Madrid\, a través del Proyecto Transversal “Madrid Ciudad Corresponsable” invita al tejido empresarial madrileño al webinar “Transparencia salarial: herramientas para el Diagnóstico y diseño del Plan de Igualdad”. \nInscripciones abiertas aquí
URL:https://dev.alkon.es/evento/webinar-madrid-corresponsable-transparencia-salarial-herramientas-para-el-diagnostico-y-diseno-del-plan-de-igualdad/
END:VEVENT
BEGIN:VEVENT
DTSTART;TZID=Europe/Madrid:20220523T100000
DTEND;TZID=Europe/Madrid:20220523T113000
DTSTAMP:20260423T120651
CREATED:20220518T163759Z
LAST-MODIFIED:20231024T160419Z
UID:10000290-1653300000-1653305400@dev.alkon.es
SUMMARY:Taller online Servicio Madrid Corresponsable : “Prevención y gestión del acoso sexual/por razón de sexo en el ámbito laboral”.
DESCRIPTION:Organiza: Cámara de Comercio Madrid \nMás información aquí: \nhttps://www.camaramadrid.es/evento/-/item/evento/8285/taller-gratuito-on-line-servicio-madrid-corresponsable-pautas-para-el-diseo-y-la-elaboracion-de-un-plan-de-igualdad-de-oportunidades-conforme-a-la-legislacion-actual?utm_source=emailing&utm_medium=email&utm_campaign=Taller_gratuito_Servicio_Madrid_Corresponsable_ \n 
URL:https://dev.alkon.es/evento/taller-online-servicio-madrid-corresponsable-prevencion-y-gestion-del-acoso-sexual-por-razon-de-sexo-en-el-ambito-laboral-2/
END:VEVENT
BEGIN:VEVENT
DTSTART;TZID=Europe/Madrid:20220519T120000
DTEND;TZID=Europe/Madrid:20220519T140000
DTSTAMP:20260423T120651
CREATED:20220513T113512Z
LAST-MODIFIED:20231024T160419Z
UID:10000289-1652961600-1652968800@dev.alkon.es
SUMMARY:Webinar: “Corresponsabilidad y usos del tiempo”
DESCRIPTION:WEBINAR “CORRESPONSABILIDAD Y USOS DEL TIEMPO”. \nOrganiza: UNAF \nInscripciones abiertas aquí
URL:https://dev.alkon.es/evento/webinar-corresponsabilidad-y-usos-del-tiempo/
END:VEVENT
BEGIN:VEVENT
DTSTART;TZID=Europe/Madrid:20220506T100000
DTEND;TZID=Europe/Madrid:20220506T113000
DTSTAMP:20260423T120651
CREATED:20220504T080428Z
LAST-MODIFIED:20231024T160420Z
UID:10000285-1651831200-1651836600@dev.alkon.es
SUMMARY:Taller online: Pautas para el diseño y la elaboración de un Plan de Igualdad de Oportunidades conforme a la legislación actual
DESCRIPTION:Organiza: Cámara de Comercio Madrid \nPROGRAMA: \n\nIgualdad y contexto.\nMarco normativo.\nIII. ¿Qué es un Plan de Igualdad? Motivos y beneficios de la implantación del plan. Gestión empresarial con perspectiva de género.\nIV. Presentación proceso de elaboración e implantación de un Plan de Igualdad de oportunidades conforme a la legislación actual.\n\n  \nMás información aquí: \nhttps://www.camaramadrid.es/evento/-/item/evento/8285/taller-gratuito-on-line-servicio-madrid-corresponsable-pautas-para-el-diseo-y-la-elaboracion-de-un-plan-de-igualdad-de-oportunidades-conforme-a-la-legislacion-actual?utm_source=emailing&utm_medium=email&utm_campaign=Taller_gratuito_Servicio_Madrid_Corresponsable_ \n 
URL:https://dev.alkon.es/evento/taller-online-pautas-para-el-diseno-y-la-elaboracion-de-un-plan-de-igualdad-de-oportunidades-conforme-a-la-legislacion-actual/
END:VEVENT
END:VCALENDAR